BEGIN:VCALENDAR
VERSION:2.0
PRODID:-//Blue Wealth Property//Event Booking System//EN
BEGIN:VTIMEZONE
TZID:Australia/Sydney
TZURL:http://tzurl.org/zoneinfo-outlook/Australia/Sydney
X-LIC-LOCATION:Australia/Sydney
BEGIN:STANDARD
TZOFFSETFROM:+1100
TZOFFSETTO:+1000
TZNAME:AEST
DTSTART:19700405T030000
RRULE:FREQ=YEARLY;BYMONTH=4;BYDAY=1SU
END:STANDARD
BEGIN:DAYLIGHT
TZOFFSETFROM:+1000
TZOFFSETTO:+1100
TZNAME:AEDT
DTSTART:19701004T020000
RRULE:FREQ=YEARLY;BYMONTH=10;BYDAY=1SU
END:DAYLIGHT
END:VTIMEZONE
BEGIN:VEVENT
DTSTAMP:20210226T160409
UID:1b0ec6dc7f49f5b792ba1bb9f6dfdcca94ba29ce
DTSTART;TZID="Australia/Sydney":20210309T193000
DTEND;TZID="Australia/Sydney":20210309T200000
SUMMARY: Pop-Up Event - How to use equity to invest in property
URL:/smart2/invitation/1370
DESCRIPTION;ENCODING=QUOTED-PRINTABLE:Please find the event details as below and add to your calendar:=0D=0A=0D=0A Pop-Up Event - How to use equity to invest in property=0D=0A=0D=0AWebinar Only - =0D=0A09 March 2021
LOCATION:Webinar Only - 
BEGIN:VALARM
TRIGGER:-PT15M
ACTION:DISPLAY
DESCRIPTION:Reminder
END:VALARM
END:VEVENT
END:VCALENDAR
