BEGIN:VCALENDAR
VERSION:2.0
PRODID:-//Blue Wealth Property//Event Booking System//EN
BEGIN:VTIMEZONE
TZID:Australia/Sydney
TZURL:http://tzurl.org/zoneinfo-outlook/Australia/Sydney
X-LIC-LOCATION:Australia/Sydney
BEGIN:STANDARD
TZOFFSETFROM:+1100
TZOFFSETTO:+1000
TZNAME:AEST
DTSTART:19700405T030000
RRULE:FREQ=YEARLY;BYMONTH=4;BYDAY=1SU
END:STANDARD
BEGIN:DAYLIGHT
TZOFFSETFROM:+1000
TZOFFSETTO:+1100
TZNAME:AEDT
DTSTART:19701004T020000
RRULE:FREQ=YEARLY;BYMONTH=10;BYDAY=1SU
END:DAYLIGHT
END:VTIMEZONE
BEGIN:VEVENT
DTSTAMP:20210217T161905
UID:39a564b207b25e4422328617c99c5c5c06f618b6
DTSTART;TZID="Australia/Sydney":20210310T183000
DTEND;TZID="Australia/Sydney":20210310T203000
SUMMARY:Double Header - Principles of Property Investment with an Australian Property Market Update
URL:/smart2/invitation/1357
DESCRIPTION;ENCODING=QUOTED-PRINTABLE:Please find the event details as below and add to your calendar:=0D=0A=0D=0ADouble Header - Principles of Property Investment with an Australian Property Market Update=0D=0A=0D=0ABlue Zone (Blue Wealth Office) - Level 2, 8 Australia Avenue, Sydney Olympic Park, NSW 2127=0D=0A10 March 2021
LOCATION:Blue Zone (Blue Wealth Office) - Level 2, 8 Australia Avenue, Sydney Olympic Park, NSW 2127
BEGIN:VALARM
TRIGGER:-PT15M
ACTION:DISPLAY
DESCRIPTION:Reminder
END:VALARM
END:VEVENT
END:VCALENDAR
